BEGIN:VCALENDAR
VERSION:2.0
PRODID:-//Tierra de Lara - ECPv6.15.20//NONSGML v1.0//EN
CALSCALE:GREGORIAN
METHOD:PUBLISH
X-WR-CALNAME:Tierra de Lara
X-ORIGINAL-URL:http://www.tierradelara.es
X-WR-CALDESC:Eventos para Tierra de Lara
REFRESH-INTERVAL;VALUE=DURATION:PT1H
X-Robots-Tag:noindex
X-PUBLISHED-TTL:PT1H
BEGIN:VTIMEZONE
TZID:Europe/Madrid
BEGIN:DAYLIGHT
TZOFFSETFROM:+0100
TZOFFSETTO:+0200
TZNAME:CEST
DTSTART:20250330T010000
END:DAYLIGHT
BEGIN:STANDARD
TZOFFSETFROM:+0200
TZOFFSETTO:+0100
TZNAME:CET
DTSTART:20251026T010000
END:STANDARD
BEGIN:DAYLIGHT
TZOFFSETFROM:+0100
TZOFFSETTO:+0200
TZNAME:CEST
DTSTART:20260329T010000
END:DAYLIGHT
BEGIN:STANDARD
TZOFFSETFROM:+0200
TZOFFSETTO:+0100
TZNAME:CET
DTSTART:20261025T010000
END:STANDARD
BEGIN:DAYLIGHT
TZOFFSETFROM:+0100
TZOFFSETTO:+0200
TZNAME:CEST
DTSTART:20270328T010000
END:DAYLIGHT
BEGIN:STANDARD
TZOFFSETFROM:+0200
TZOFFSETTO:+0100
TZNAME:CET
DTSTART:20271031T010000
END:STANDARD
END:VTIMEZONE
BEGIN:VEVENT
DTSTART;VALUE=DATE:20260131
DTEND;VALUE=DATE:20260202
DTSTAMP:20260422T201138
CREATED:20260111T171356Z
LAST-MODIFIED:20260111T171356Z
UID:17704-1769817600-1769990399@www.tierradelara.es
SUMMARY:XI Feria de la Trufa Negra de Burgos
DESCRIPTION:
URL:http://www.tierradelara.es/evento/xi-feria-de-la-trufa-negra-de-burgos/
LOCATION:Covarrubias\, Covarrubias\, 09346\, España
CATEGORIES:Evento,Evento destacado
END:VEVENT
END:VCALENDAR