BEGIN:VCALENDAR
VERSION:2.0
PRODID:-//Tierra de Lara - ECPv6.15.20//NONSGML v1.0//EN
CALSCALE:GREGORIAN
METHOD:PUBLISH
X-ORIGINAL-URL:https://www.tierradelara.es
X-WR-CALDESC:Eventos para Tierra de Lara
REFRESH-INTERVAL;VALUE=DURATION:PT1H
X-Robots-Tag:noindex
X-PUBLISHED-TTL:PT1H
BEGIN:VTIMEZONE
TZID:Europe/Madrid
BEGIN:DAYLIGHT
TZOFFSETFROM:+0100
TZOFFSETTO:+0200
TZNAME:CEST
DTSTART:20250330T010000
END:DAYLIGHT
BEGIN:STANDARD
TZOFFSETFROM:+0200
TZOFFSETTO:+0100
TZNAME:CET
DTSTART:20251026T010000
END:STANDARD
BEGIN:DAYLIGHT
TZOFFSETFROM:+0100
TZOFFSETTO:+0200
TZNAME:CEST
DTSTART:20260329T010000
END:DAYLIGHT
BEGIN:STANDARD
TZOFFSETFROM:+0200
TZOFFSETTO:+0100
TZNAME:CET
DTSTART:20261025T010000
END:STANDARD
BEGIN:DAYLIGHT
TZOFFSETFROM:+0100
TZOFFSETTO:+0200
TZNAME:CEST
DTSTART:20270328T010000
END:DAYLIGHT
BEGIN:STANDARD
TZOFFSETFROM:+0200
TZOFFSETTO:+0100
TZNAME:CET
DTSTART:20271031T010000
END:STANDARD
END:VTIMEZONE
BEGIN:VEVENT
DTSTART;VALUE=DATE:20260606
DTEND;VALUE=DATE:20260607
DTSTAMP:20260422T173953
CREATED:20260211T175358Z
LAST-MODIFIED:20260211T175441Z
UID:17794-1780704000-1780790399@www.tierradelara.es
SUMMARY:Subida de los pendones al castillo de Lara
DESCRIPTION:
URL:https://www.tierradelara.es/evento/subida-de-los-pendones-al-castillo-de-lara/
LOCATION:Lara de los Infantes
CATEGORIES:Evento destacado
END:VEVENT
BEGIN:VEVENT
DTSTART;VALUE=DATE:20260717
DTEND;VALUE=DATE:20260719
DTSTAMP:20260422T173953
CREATED:20260211T180310Z
LAST-MODIFIED:20260211T180310Z
UID:17789-1784246400-1784419199@www.tierradelara.es
SUMMARY:Teatro Fernán González
DESCRIPTION:
URL:https://www.tierradelara.es/evento/teatro-fernan-gonzalez/
CATEGORIES:Evento destacado
END:VEVENT
END:VCALENDAR