BEGIN:VCALENDAR
VERSION:2.0
PRODID:-//Tierra de Lara - ECPv6.15.20//NONSGML v1.0//EN
CALSCALE:GREGORIAN
METHOD:PUBLISH
X-ORIGINAL-URL:https://www.tierradelara.es
X-WR-CALDESC:Eventos para Tierra de Lara
REFRESH-INTERVAL;VALUE=DURATION:PT1H
X-Robots-Tag:noindex
X-PUBLISHED-TTL:PT1H
BEGIN:VTIMEZONE
TZID:Europe/Madrid
BEGIN:DAYLIGHT
TZOFFSETFROM:+0100
TZOFFSETTO:+0200
TZNAME:CEST
DTSTART:20250330T010000
END:DAYLIGHT
BEGIN:STANDARD
TZOFFSETFROM:+0200
TZOFFSETTO:+0100
TZNAME:CET
DTSTART:20251026T010000
END:STANDARD
BEGIN:DAYLIGHT
TZOFFSETFROM:+0100
TZOFFSETTO:+0200
TZNAME:CEST
DTSTART:20260329T010000
END:DAYLIGHT
BEGIN:STANDARD
TZOFFSETFROM:+0200
TZOFFSETTO:+0100
TZNAME:CET
DTSTART:20261025T010000
END:STANDARD
BEGIN:DAYLIGHT
TZOFFSETFROM:+0100
TZOFFSETTO:+0200
TZNAME:CEST
DTSTART:20270328T010000
END:DAYLIGHT
BEGIN:STANDARD
TZOFFSETFROM:+0200
TZOFFSETTO:+0100
TZNAME:CET
DTSTART:20271031T010000
END:STANDARD
END:VTIMEZONE
BEGIN:VEVENT
DTSTART;VALUE=DATE:20260307
DTEND;VALUE=DATE:20260308
DTSTAMP:20260422T140913
CREATED:20260211T175708Z
LAST-MODIFIED:20260211T175708Z
UID:17790-1772841600-1772927999@www.tierradelara.es
SUMMARY:Desafío de Helios
DESCRIPTION:
URL:https://www.tierradelara.es/evento/desafio-de-helios-2/
CATEGORIES:Evento destacado
END:VEVENT
BEGIN:VEVENT
DTSTART;TZID=Europe/Madrid:20260314T200000
DTEND;TZID=Europe/Madrid:20260315T060000
DTSTAMP:20260422T140913
CREATED:20260304T164649Z
LAST-MODIFIED:20260304T164649Z
UID:17828-1773518400-1773554400@www.tierradelara.es
SUMMARY:MaderoLand
DESCRIPTION:
URL:https://www.tierradelara.es/evento/maderoland/
LOCATION:Los Ausines\, Los Ausines\, Burgos\, 09194\, España
CATEGORIES:Fiesta
END:VEVENT
BEGIN:VEVENT
DTSTART;VALUE=DATE:20260328
DTEND;VALUE=DATE:20260330
DTSTAMP:20260422T140913
CREATED:20260317T170803Z
LAST-MODIFIED:20260317T170803Z
UID:17863-1774656000-1774828799@www.tierradelara.es
SUMMARY:Saborea Tierra de Lara
DESCRIPTION:
URL:https://www.tierradelara.es/evento/saborea-tierra-de-lara/
CATEGORIES:Evento destacado
END:VEVENT
END:VCALENDAR