BEGIN:VCALENDAR
VERSION:2.0
PRODID:-//Tierra de Lara - ECPv6.15.20//NONSGML v1.0//EN
CALSCALE:GREGORIAN
METHOD:PUBLISH
X-ORIGINAL-URL:https://www.tierradelara.es
X-WR-CALDESC:Eventos para Tierra de Lara
REFRESH-INTERVAL;VALUE=DURATION:PT1H
X-Robots-Tag:noindex
X-PUBLISHED-TTL:PT1H
BEGIN:VTIMEZONE
TZID:Europe/Madrid
BEGIN:DAYLIGHT
TZOFFSETFROM:+0100
TZOFFSETTO:+0200
TZNAME:CEST
DTSTART:20250330T010000
END:DAYLIGHT
BEGIN:STANDARD
TZOFFSETFROM:+0200
TZOFFSETTO:+0100
TZNAME:CET
DTSTART:20251026T010000
END:STANDARD
BEGIN:DAYLIGHT
TZOFFSETFROM:+0100
TZOFFSETTO:+0200
TZNAME:CEST
DTSTART:20260329T010000
END:DAYLIGHT
BEGIN:STANDARD
TZOFFSETFROM:+0200
TZOFFSETTO:+0100
TZNAME:CET
DTSTART:20261025T010000
END:STANDARD
BEGIN:DAYLIGHT
TZOFFSETFROM:+0100
TZOFFSETTO:+0200
TZNAME:CEST
DTSTART:20270328T010000
END:DAYLIGHT
BEGIN:STANDARD
TZOFFSETFROM:+0200
TZOFFSETTO:+0100
TZNAME:CET
DTSTART:20271031T010000
END:STANDARD
END:VTIMEZONE
BEGIN:VEVENT
DTSTART;TZID=Europe/Madrid:20260502T140000
DTEND;TZID=Europe/Madrid:20260502T210000
DTSTAMP:20260422T140913
CREATED:20260410T151718Z
LAST-MODIFIED:20260410T151718Z
UID:17897-1777730400-1777755600@www.tierradelara.es
SUMMARY:Fiesta 90'S
DESCRIPTION:
URL:https://www.tierradelara.es/evento/fiesta-90s/
LOCATION:Hortigüela\, Hortigüela\, BURGOS\, 09640
CATEGORIES:Fiesta
END:VEVENT
BEGIN:VEVENT
DTSTART;VALUE=DATE:20260510
DTEND;VALUE=DATE:20260511
DTSTAMP:20260422T140913
CREATED:20260211T175557Z
LAST-MODIFIED:20260211T175557Z
UID:17792-1778371200-1778457599@www.tierradelara.es
SUMMARY:Concierto de primavera y oficios
DESCRIPTION:
URL:https://www.tierradelara.es/evento/concierto-de-primavera-y-oficios/
CATEGORIES:Evento destacado
END:VEVENT
BEGIN:VEVENT
DTSTART;VALUE=DATE:20260523
DTEND;VALUE=DATE:20260524
DTSTAMP:20260422T140913
CREATED:20260211T175527Z
LAST-MODIFIED:20260211T175527Z
UID:17793-1779494400-1779580799@www.tierradelara.es
SUMMARY:Ruta de San Olav
DESCRIPTION:
URL:https://www.tierradelara.es/evento/ruta-de-san-olav/
LOCATION:Covarrubias\, Covarrubias\, 09346\, España
CATEGORIES:Evento destacado
END:VEVENT
END:VCALENDAR